BEGIN:VCALENDAR
VERSION:2.0
PRODID:-//MAISON D'HISTOIRE ET DU PATRIMOINE - ECPv6.15.20//NONSGML v1.0//EN
CALSCALE:GREGORIAN
METHOD:PUBLISH
X-ORIGINAL-URL:https://maison-histoire-patrimoine.fr
X-WR-CALDESC:Évènements pour MAISON D'HISTOIRE ET DU PATRIMOINE
REFRESH-INTERVAL;VALUE=DURATION:PT1H
X-Robots-Tag:noindex
X-PUBLISHED-TTL:PT1H
BEGIN:VTIMEZONE
TZID:Europe/Paris
BEGIN:DAYLIGHT
TZOFFSETFROM:+0100
TZOFFSETTO:+0200
TZNAME:CEST
DTSTART:20250330T010000
END:DAYLIGHT
BEGIN:STANDARD
TZOFFSETFROM:+0200
TZOFFSETTO:+0100
TZNAME:CET
DTSTART:20251026T010000
END:STANDARD
BEGIN:DAYLIGHT
TZOFFSETFROM:+0100
TZOFFSETTO:+0200
TZNAME:CEST
DTSTART:20260329T010000
END:DAYLIGHT
BEGIN:STANDARD
TZOFFSETFROM:+0200
TZOFFSETTO:+0100
TZNAME:CET
DTSTART:20261025T010000
END:STANDARD
BEGIN:DAYLIGHT
TZOFFSETFROM:+0100
TZOFFSETTO:+0200
TZNAME:CEST
DTSTART:20270328T010000
END:DAYLIGHT
BEGIN:STANDARD
TZOFFSETFROM:+0200
TZOFFSETTO:+0100
TZNAME:CET
DTSTART:20271031T010000
END:STANDARD
END:VTIMEZONE
BEGIN:VEVENT
DTSTART;TZID=Europe/Paris:20260602T143000
DTEND;TZID=Europe/Paris:20260602T163000
DTSTAMP:20260424T224030
CREATED:20250611T091136Z
LAST-MODIFIED:20250906T073744Z
UID:11774-1780410600-1780417800@maison-histoire-patrimoine.fr
SUMMARY:Atelier d'Histoire
DESCRIPTION:La saison 2025 – 2026 débute ! 3ème année pour cette activité… ET IL EST DEJA COMPLET ! \nDe quoi s’agit-il ? \nVous êtes passionnés d’Histoire ? Ce groupe est fait pour vous ! Ici les participants choisissent ensemble de travailler autour d’un sujet\, principalement sur l’Histoire locale\, et le moment venu une exposition\, restitution de leurs recherches qui est présentée sous forme d’exposition temporaire dans les locaux de la Maison d’Histoire et du Patrimoine. \nAnimé bénévolement par Daniel NAPPO la 1ère année\, puis à présent par Gérard TAGLIAVINI\, tous les 1ers mardi mois de septembre à juin\, de 14h30 à 16h30. Cet atelier est proposé gratuitement\, il est impérativement demandé d’être assidu pour le suivi du programme. \nDécouvrez notre page dédiée VIA CE LIEN \nLa saison 2025-2026 se termine ! RDV en septembre 2026 pour retrouver toutes les activités proposée par la Maison d’Histoire et du Patrimoine… \n 
URL:https://maison-histoire-patrimoine.fr/evenement/atelier-dhistoire-10/
LOCATION:Maison d’Histoire et du Patrimoine\, 18 Rue Colbert\, St Maximin la Ste Baume\, 83119\, France
CATEGORIES:Ateliers,Histoire
ATTACH;FMTTYPE=image/jpeg:https://maison-histoire-patrimoine.fr/wp-content/uploads/2025/06/agenda_atelier_2025_2026_mhp_histoire_complet.jpg
END:VEVENT
END:VCALENDAR