BEGIN:VCALENDAR
VERSION:2.0
PRODID:-//MAISON D'HISTOIRE ET DU PATRIMOINE - ECPv6.15.20//NONSGML v1.0//EN
CALSCALE:GREGORIAN
METHOD:PUBLISH
X-WR-CALNAME:MAISON D'HISTOIRE ET DU PATRIMOINE
X-ORIGINAL-URL:https://maison-histoire-patrimoine.fr
X-WR-CALDESC:Évènements pour MAISON D'HISTOIRE ET DU PATRIMOINE
REFRESH-INTERVAL;VALUE=DURATION:PT1H
X-Robots-Tag:noindex
X-PUBLISHED-TTL:PT1H
BEGIN:VTIMEZONE
TZID:Europe/Paris
BEGIN:DAYLIGHT
TZOFFSETFROM:+0100
TZOFFSETTO:+0200
TZNAME:CEST
DTSTART:20250330T010000
END:DAYLIGHT
BEGIN:STANDARD
TZOFFSETFROM:+0200
TZOFFSETTO:+0100
TZNAME:CET
DTSTART:20251026T010000
END:STANDARD
BEGIN:DAYLIGHT
TZOFFSETFROM:+0100
TZOFFSETTO:+0200
TZNAME:CEST
DTSTART:20260329T010000
END:DAYLIGHT
BEGIN:STANDARD
TZOFFSETFROM:+0200
TZOFFSETTO:+0100
TZNAME:CET
DTSTART:20261025T010000
END:STANDARD
BEGIN:DAYLIGHT
TZOFFSETFROM:+0100
TZOFFSETTO:+0200
TZNAME:CEST
DTSTART:20270328T010000
END:DAYLIGHT
BEGIN:STANDARD
TZOFFSETFROM:+0200
TZOFFSETTO:+0100
TZNAME:CET
DTSTART:20271031T010000
END:STANDARD
END:VTIMEZONE
BEGIN:VEVENT
DTSTART;TZID=Europe/Paris:20260428T143000
DTEND;TZID=Europe/Paris:20260428T160000
DTSTAMP:20260424T181859
CREATED:20251215T083359Z
LAST-MODIFIED:20251215T083359Z
UID:12232-1777386600-1777392000@maison-histoire-patrimoine.fr
SUMMARY:Atelier de Paléographie Intermédiaires
DESCRIPTION:1ère saison de Paléographie pour le groupe « Intermédiaires » ! \nPour cette rentrée RDV 1 mardi par mois de 14H30 à 16H00. Cette activité est animée bénévolement par Viviane Barthelémy. \n  \nN’hésitez pas à consulter la page dédiée VIA CE LIEN \n  \nREMARQUES IMPORTANTES : \nInscription pour toute l’année de septembre 2025 à juin 2026. \nA noter qu’il est impératif d’être assidu \nEn cas d’absence merci de nous prévenir rapidement.
URL:https://maison-histoire-patrimoine.fr/evenement/atelier-de-paleographie-intermediaires-3/
LOCATION:Maison d’Histoire et du Patrimoine\, 18 Rue Colbert\, St Maximin la Ste Baume\, 83119\, France
CATEGORIES:Ateliers,Paléographie
ATTACH;FMTTYPE=image/jpeg:https://maison-histoire-patrimoine.fr/wp-content/uploads/2025/06/agenda_atelier_2025_2026_mhp_paleo_intermediaires-1.jpg
END:VEVENT
BEGIN:VEVENT
DTSTART;TZID=Europe/Paris:20260429T143000
DTEND;TZID=Europe/Paris:20260429T160000
DTSTAMP:20260424T181859
CREATED:20251215T083819Z
LAST-MODIFIED:20251215T083819Z
UID:12242-1777473000-1777478400@maison-histoire-patrimoine.fr
SUMMARY:Atelier de Paléographie Débutants
DESCRIPTION:LE GROUPE DES « DÉBUTANTS » EST COMPLET ! \n  \n3ème saison pour cette activité !  \nLa paléographie est l’étude des écritures anciennes\, cat atelier est complémentaire pour les participants (ou pas) aux ateliers de généalogie. \nRDV 1 mercredi par mois pour le groupe des « débutants »\, de 14h30 à 16h00. Animé bénévolement par Viviane Barthelemy. \n  \nDétails sur notre page dédiée VIA CE LIEN \n  \nREMARQUES IMPORTANTES : \nUniquement sur inscription pour l’année complète 2025 – 2026 \nAssiduité impérativement requise \nEn cas d’absence merci de nous prévenir rapidement
URL:https://maison-histoire-patrimoine.fr/evenement/atelier-de-paleographie-debutants-4/
LOCATION:Maison d’Histoire et du Patrimoine\, 18 Rue Colbert\, St Maximin la Ste Baume\, 83119\, France
CATEGORIES:Ateliers,Paléographie
ATTACH;FMTTYPE=image/jpeg:https://maison-histoire-patrimoine.fr/wp-content/uploads/2025/06/agenda_atelier_2025_2026_mhp_paleo_debutants_complet.jpg
END:VEVENT
BEGIN:VEVENT
DTSTART;TZID=Europe/Paris:20260430T140000
DTEND;TZID=Europe/Paris:20260430T170000
DTSTAMP:20260424T181859
CREATED:20250611T092556Z
LAST-MODIFIED:20251201T091513Z
UID:11788-1777557600-1777568400@maison-histoire-patrimoine.fr
SUMMARY:Atelier d'initiation à l'enluminure
DESCRIPTION:CET ATELIER EST COMPLET POUR SA 1ERE SAISON ! \n  \nNOUVEAUTÉ SAISON 2025 – 2026 ! \nVenez vous essayer à l’Art de l’enluminure… Pour en savoir un peu plus sur le sujet\, consultez notre page dédiée via ce lien \nRetrouvez nous le dernier jeudi du mois de 14h00 à 17h00. \nREMARQUES IMPORTANTES: \nIl est impératif de s’inscrire pour participer à l’atelier car le nombre de place est limité pour des raisons de logistique\, mais aussi permettre à Dominique\, qui anime bénévolement cette activité\, de consacrer plus de temps au cas par cas. \nUn imprévu est vous ne pouvez pas venir ? Merci de nous contacter rapidement.
URL:https://maison-histoire-patrimoine.fr/evenement/atelier-dinitiation-a-lenluminure-8/
LOCATION:Maison d’Histoire et du Patrimoine\, 18 Rue Colbert\, St Maximin la Ste Baume\, 83119\, France
CATEGORIES:Ateliers,Initiation Enluminure
ATTACH;FMTTYPE=image/jpeg:https://maison-histoire-patrimoine.fr/wp-content/uploads/2025/06/agenda_atelier_2025_2026_mhp_enluminure_complet.jpg
END:VEVENT
END:VCALENDAR